BEGIN:VCALENDAR
VERSION:2.0
PRODID:-//FFW Bärndorf - ECPv6.15.20//NONSGML v1.0//EN
CALSCALE:GREGORIAN
METHOD:PUBLISH
X-ORIGINAL-URL:https://xn--ffw-brndorf-p8a.de
X-WR-CALDESC:Veranstaltungen für FFW Bärndorf
REFRESH-INTERVAL;VALUE=DURATION:PT1H
X-Robots-Tag:noindex
X-PUBLISHED-TTL:PT1H
BEGIN:VTIMEZONE
TZID:Europe/Berlin
BEGIN:DAYLIGHT
TZOFFSETFROM:+0100
TZOFFSETTO:+0200
TZNAME:CEST
DTSTART:20250330T010000
END:DAYLIGHT
BEGIN:STANDARD
TZOFFSETFROM:+0200
TZOFFSETTO:+0100
TZNAME:CET
DTSTART:20251026T010000
END:STANDARD
BEGIN:DAYLIGHT
TZOFFSETFROM:+0100
TZOFFSETTO:+0200
TZNAME:CEST
DTSTART:20260329T010000
END:DAYLIGHT
BEGIN:STANDARD
TZOFFSETFROM:+0200
TZOFFSETTO:+0100
TZNAME:CET
DTSTART:20261025T010000
END:STANDARD
BEGIN:DAYLIGHT
TZOFFSETFROM:+0100
TZOFFSETTO:+0200
TZNAME:CEST
DTSTART:20270328T010000
END:DAYLIGHT
BEGIN:STANDARD
TZOFFSETFROM:+0200
TZOFFSETTO:+0100
TZNAME:CET
DTSTART:20271031T010000
END:STANDARD
END:VTIMEZONE
BEGIN:VEVENT
DTSTART;TZID=Europe/Berlin:20260503T160000
DTEND;TZID=Europe/Berlin:20260504T000000
DTSTAMP:20260420T155729
CREATED:20260401T120113Z
LAST-MODIFIED:20260401T120113Z
UID:4474-1777824000-1777852800@xn--ffw-brndorf-p8a.de
SUMMARY:Priesterjubiläum
DESCRIPTION:
URL:https://xn--ffw-brndorf-p8a.de/kalender/priesterjubilaeum/
END:VEVENT
BEGIN:VEVENT
DTSTART;TZID=Europe/Berlin:20260604T080000
DTEND;TZID=Europe/Berlin:20260605T000000
DTSTAMP:20260420T155729
CREATED:20260401T120124Z
LAST-MODIFIED:20260401T120124Z
UID:4476-1780560000-1780617600@xn--ffw-brndorf-p8a.de
SUMMARY:Fronleichnamsprozession
DESCRIPTION:
URL:https://xn--ffw-brndorf-p8a.de/kalender/fronleichnamsprozession/
END:VEVENT
BEGIN:VEVENT
DTSTART;TZID=Europe/Berlin:20260604T120000
DTEND;TZID=Europe/Berlin:20260605T000000
DTSTAMP:20260420T155729
CREATED:20260401T120124Z
LAST-MODIFIED:20260401T120124Z
UID:4477-1780574400-1780617600@xn--ffw-brndorf-p8a.de
SUMMARY:FFW Lederdorn Gartenfest
DESCRIPTION:
URL:https://xn--ffw-brndorf-p8a.de/kalender/ffw-lederdorn-gartenfest/
END:VEVENT
BEGIN:VEVENT
DTSTART;TZID=Europe/Berlin:20260613T180000
DTEND;TZID=Europe/Berlin:20260614T000000
DTSTAMP:20260420T155729
CREATED:20260401T120125Z
LAST-MODIFIED:20260401T120125Z
UID:4478-1781373600-1781395200@xn--ffw-brndorf-p8a.de
SUMMARY:Dorffest Blaibach
DESCRIPTION:
URL:https://xn--ffw-brndorf-p8a.de/kalender/dorffest-blaibach/
END:VEVENT
BEGIN:VEVENT
DTSTART;TZID=Europe/Berlin:20260620T190000
DTEND;TZID=Europe/Berlin:20260621T000000
DTSTAMP:20260420T155729
CREATED:20260401T120125Z
LAST-MODIFIED:20260401T120125Z
UID:4480-1781982000-1782000000@xn--ffw-brndorf-p8a.de
SUMMARY:Trachtenverein Blaibach Sonnwendfeuer
DESCRIPTION:
URL:https://xn--ffw-brndorf-p8a.de/kalender/trachtenverein-blaibach-sonnwendfeuer/
END:VEVENT
BEGIN:VEVENT
DTSTART;TZID=Europe/Berlin:20260626T180000
DTEND;TZID=Europe/Berlin:20260627T000000
DTSTAMP:20260420T155729
CREATED:20260401T120310Z
LAST-MODIFIED:20260401T120310Z
UID:4481-1782496800-1782518400@xn--ffw-brndorf-p8a.de
SUMMARY:150 Jahre FFW Wolfersdorf
DESCRIPTION:
URL:https://xn--ffw-brndorf-p8a.de/kalender/150-jahre-ffw-wolfersdorf/
END:VEVENT
BEGIN:VEVENT
DTSTART;TZID=Europe/Berlin:20260628T080000
DTEND;TZID=Europe/Berlin:20260629T000000
DTSTAMP:20260420T155729
CREATED:20260401T120310Z
LAST-MODIFIED:20260401T120310Z
UID:4482-1782633600-1782691200@xn--ffw-brndorf-p8a.de
SUMMARY:150 Jahre FFW Wolfersdorf
DESCRIPTION:
URL:https://xn--ffw-brndorf-p8a.de/kalender/150-jahre-ffw-wolfersdorf-2/
END:VEVENT
BEGIN:VEVENT
DTSTART;TZID=Europe/Berlin:20260705T080000
DTEND;TZID=Europe/Berlin:20260706T000000
DTSTAMP:20260420T155729
CREATED:20260401T120311Z
LAST-MODIFIED:20260401T120311Z
UID:4484-1783238400-1783296000@xn--ffw-brndorf-p8a.de
SUMMARY:150 Jahre FFW Thenried
DESCRIPTION:
URL:https://xn--ffw-brndorf-p8a.de/kalender/150-jahre-ffw-thenried/
END:VEVENT
BEGIN:VEVENT
DTSTART;TZID=Europe/Berlin:20260719T120000
DTEND;TZID=Europe/Berlin:20260720T000000
DTSTAMP:20260420T155729
CREATED:20260401T120323Z
LAST-MODIFIED:20260401T120323Z
UID:4487-1784462400-1784505600@xn--ffw-brndorf-p8a.de
SUMMARY:FC Lederdorn Gartenfest
DESCRIPTION:
URL:https://xn--ffw-brndorf-p8a.de/kalender/fc-lederdorn-gartenfest/
END:VEVENT
BEGIN:VEVENT
DTSTART;TZID=Europe/Berlin:20260726T080000
DTEND;TZID=Europe/Berlin:20260727T000000
DTSTAMP:20260420T155729
CREATED:20260401T120323Z
LAST-MODIFIED:20260401T120323Z
UID:4488-1785052800-1785110400@xn--ffw-brndorf-p8a.de
SUMMARY:150 Jahre FFW Chamerau
DESCRIPTION:
URL:https://xn--ffw-brndorf-p8a.de/kalender/150-jahre-ffw-chamerau/
END:VEVENT
BEGIN:VEVENT
DTSTART;TZID=Europe/Berlin:20260802T090000
DTEND;TZID=Europe/Berlin:20260803T000000
DTSTAMP:20260420T155729
CREATED:20260401T120323Z
LAST-MODIFIED:20260401T120323Z
UID:4489-1785661200-1785715200@xn--ffw-brndorf-p8a.de
SUMMARY:100 Jahre KuRK Lederdorn
DESCRIPTION:
URL:https://xn--ffw-brndorf-p8a.de/kalender/100-jahre-kurk-lederdorn/
END:VEVENT
BEGIN:VEVENT
DTSTART;TZID=Europe/Berlin:20260802T100000
DTEND;TZID=Europe/Berlin:20260803T000000
DTSTAMP:20260420T155729
CREATED:20260401T120324Z
LAST-MODIFIED:20260401T120324Z
UID:4490-1785664800-1785715200@xn--ffw-brndorf-p8a.de
SUMMARY:FFW Blaibach Hallenfest
DESCRIPTION:
URL:https://xn--ffw-brndorf-p8a.de/kalender/ffw-blaibach-hallenfest/
END:VEVENT
BEGIN:VEVENT
DTSTART;TZID=Europe/Berlin:20260808T180000
DTEND;TZID=Europe/Berlin:20260809T000000
DTSTAMP:20260420T155729
CREATED:20260401T120343Z
LAST-MODIFIED:20260401T120343Z
UID:4492-1786212000-1786233600@xn--ffw-brndorf-p8a.de
SUMMARY:Schützen Blaibach Gartenfest
DESCRIPTION:
URL:https://xn--ffw-brndorf-p8a.de/kalender/schuetzen-blaibach-gartenfest/
END:VEVENT
BEGIN:VEVENT
DTSTART;TZID=Europe/Berlin:20260816T120000
DTEND;TZID=Europe/Berlin:20260817T000000
DTSTAMP:20260420T155729
CREATED:20260401T120343Z
LAST-MODIFIED:20260401T120343Z
UID:4493-1786881600-1786924800@xn--ffw-brndorf-p8a.de
SUMMARY:FFW Bärndorf Hallenfest
DESCRIPTION:
URL:https://xn--ffw-brndorf-p8a.de/kalender/ffw-baerndorf-hallenfest/
END:VEVENT
BEGIN:VEVENT
DTSTART;TZID=Europe/Berlin:20260822T180000
DTEND;TZID=Europe/Berlin:20260823T000000
DTSTAMP:20260420T155729
CREATED:20260401T120343Z
LAST-MODIFIED:20260401T120343Z
UID:4494-1787421600-1787443200@xn--ffw-brndorf-p8a.de
SUMMARY:FFW Staning Hallenfest
DESCRIPTION:
URL:https://xn--ffw-brndorf-p8a.de/kalender/ffw-staning-hallenfest/
END:VEVENT
BEGIN:VEVENT
DTSTART;TZID=Europe/Berlin:20261017T173000
DTEND;TZID=Europe/Berlin:20261018T000000
DTSTAMP:20260420T155729
CREATED:20260401T120352Z
LAST-MODIFIED:20260401T120352Z
UID:4498-1792258200-1792281600@xn--ffw-brndorf-p8a.de
SUMMARY:Gemeinsamer Jahrtag
DESCRIPTION:
URL:https://xn--ffw-brndorf-p8a.de/kalender/gemeinsamer-jahrtag/
END:VEVENT
BEGIN:VEVENT
DTSTART;TZID=Europe/Berlin:20261115T170000
DTEND;TZID=Europe/Berlin:20261116T000000
DTSTAMP:20260420T155729
CREATED:20260401T120353Z
LAST-MODIFIED:20260401T120353Z
UID:4500-1794762000-1794787200@xn--ffw-brndorf-p8a.de
SUMMARY:Heldengedenktag
DESCRIPTION:
URL:https://xn--ffw-brndorf-p8a.de/kalender/heldengedenktag/
END:VEVENT
BEGIN:VEVENT
DTSTART;TZID=Europe/Berlin:20261122T093000
DTEND;TZID=Europe/Berlin:20261123T000000
DTSTAMP:20260420T155729
CREATED:20260401T120412Z
LAST-MODIFIED:20260401T120412Z
UID:4501-1795339800-1795392000@xn--ffw-brndorf-p8a.de
SUMMARY:Patrozinium
DESCRIPTION:
URL:https://xn--ffw-brndorf-p8a.de/kalender/patrozinium-2/
END:VEVENT
BEGIN:VEVENT
DTSTART;TZID=Europe/Berlin:20261219T190000
DTEND;TZID=Europe/Berlin:20261220T000000
DTSTAMP:20260420T155729
CREATED:20260401T120412Z
LAST-MODIFIED:20260401T120412Z
UID:4504-1797706800-1797724800@xn--ffw-brndorf-p8a.de
SUMMARY:Weihnachtsfeier
DESCRIPTION:
URL:https://xn--ffw-brndorf-p8a.de/kalender/weihnachtsfeier/
END:VEVENT
END:VCALENDAR